BEGIN:VCALENDAR
VERSION:2.0
PRODID:-//Contratero//ES
CALSCALE:GREGORIAN
METHOD:PUBLISH
BEGIN:VEVENT
UID:DEA-CON 13/2025 (PERTE)@contratero.es
DTSTAMP:20260421T122258Z
DTSTART:20250808T235959
DTEND:20250809T005959
SUMMARY:Cierre: Contratación de la nueva herramienta para la digit
DESCRIPTION:Contratación de la nueva herramienta para la digitalización de la relación con el cliente\, gestión de las órdenes de trabajo en movilidad y gestión integral de Chiclana Natural\, S.A.\, financiado por e...\\n\\nOrganismo: Dirección de Chiclana Natural S.A.\\n\\nVer en Contratero: https://contratero.es/contracts/DEA-CON 13/2025 (PERTE)
URL:https://contratero.es/contracts/DEA-CON 13/2025 (PERTE)
STATUS:CONFIRMED
BEGIN:VALARM
TRIGGER:-P1D
ACTION:DISPLAY
DESCRIPTION:Recordatorio: Contratación de la nueva herra
END:VALARM
END:VEVENT
END:VCALENDAR